BEGIN:VCALENDAR
VERSION:2.0
PRODID:-//Sabre//Sabre VObject 3.5.3//EN
CALSCALE:GREGORIAN
BEGIN:VTIMEZONE
TZID:Europe/London
BEGIN:STANDARD
TZNAME:GMT
DTSTART:19701025T020000
RRULE:FREQ=YEARLY;BYMONTH=10;BYDAY=-1SU
TZOFFSETFROM:+0100
TZOFFSETTO:+0000
END:STANDARD
BEGIN:DAYLIGHT
TZNAME:BST
DTSTART:19700329T010000
RRULE:FREQ=YEARLY;BYMONTH=3;BYDAY=-1SU
TZOFFSETFROM:+0000
TZOFFSETTO:+0100
END:DAYLIGHT
END:VTIMEZONE
BEGIN:VEVENT
UID:event_194142@bristolchoral.co.uk
DTSTART;TZID=Europe/London:20250131T183000
DTEND;TZID=Europe/London:20250131T210000
SUMMARY:Praise Him with Trumpets - CD Launch Event
DESCRIPTION:\n\n\nJoin Bristol Choral Society to celebrate the release of t
 heir second professional recording with Delphian Records - Praise Him with
  Trumpets.\n\nThe CD is a celebration of British Choral Music ranging from
  Britten to Vaughan Williams via Holst. We are also delighted to feature t
 hree Premiere recordings: Vice President of BCS\, Dame Judith Weir&#39\;s 
 Praise Him with Trumpets\, Grace-Evangeline Mason&#39\;s A Memory of the O
 cean for choir\, piano and cello\, and an exciting rediscovery - Elizabeth
  Poston&#39\;s Festal Te Deum.\n\nTo complement the larger choral pieces\,
  soprano soloist Charlotte Mobbs and Assistant Musical Director\, pianist 
 Steven Kings bring to life vivid Shakespeare settings by Vaughan Williams\
 , Elizabeth Maconochy and Cecilia McDowall.\n\nDuring the event you will h
 ave the opportunity to hear the choir\, joined by Organist Richard Moore a
 nd Trumpet Jo Harris perform excepts from the CD and hear from our Musical
  Director Hilary Campbell and distingushed guest Dame Judith Weir\, as wel
 l as enjoy a glass of fizz!\n\nWe hope you will join us!\n\nFor full event
  details\, visit: https://www.bristolchoral.co.uk/Praise-Him-with-Trumpets
LOCATION:All Saints Church Clifton BS8 3ED 
URL:https://www.bristolchoral.co.uk/Praise-Him-with-Trumpets
END:VEVENT
END:VCALENDAR
